BEGIN:VCALENDAR
VERSION:2.0
PRODID:-//assoabitē - ECPv6.15.16//NONSGML v1.0//EN
CALSCALE:GREGORIAN
METHOD:PUBLISH
X-WR-CALNAME:assoabitē
X-ORIGINAL-URL:https://asso.abite.fr
X-WR-CALDESC:Évènements pour assoabitē
REFRESH-INTERVAL;VALUE=DURATION:PT1H
X-Robots-Tag:noindex
X-PUBLISHED-TTL:PT1H
BEGIN:VTIMEZONE
TZID:America/Halifax
BEGIN:DAYLIGHT
TZOFFSETFROM:-0400
TZOFFSETTO:-0300
TZNAME:ADT
DTSTART:20220313T060000
END:DAYLIGHT
BEGIN:STANDARD
TZOFFSETFROM:-0300
TZOFFSETTO:-0400
TZNAME:AST
DTSTART:20221106T050000
END:STANDARD
BEGIN:DAYLIGHT
TZOFFSETFROM:-0400
TZOFFSETTO:-0300
TZNAME:ADT
DTSTART:20230312T060000
END:DAYLIGHT
BEGIN:STANDARD
TZOFFSETFROM:-0300
TZOFFSETTO:-0400
TZNAME:AST
DTSTART:20231105T050000
END:STANDARD
BEGIN:DAYLIGHT
TZOFFSETFROM:-0400
TZOFFSETTO:-0300
TZNAME:ADT
DTSTART:20240310T060000
END:DAYLIGHT
BEGIN:STANDARD
TZOFFSETFROM:-0300
TZOFFSETTO:-0400
TZNAME:AST
DTSTART:20241103T050000
END:STANDARD
END:VTIMEZONE
BEGIN:VTIMEZONE
TZID:UTC
BEGIN:STANDARD
TZOFFSETFROM:+0000
TZOFFSETTO:+0000
TZNAME:UTC
DTSTART:20220101T000000
END:STANDARD
END:VTIMEZONE
BEGIN:VEVENT
DTSTART;VALUE=DATE:20231204
DTEND;VALUE=DATE:20231209
DTSTAMP:20260413T195302
CREATED:20230915T230746Z
LAST-MODIFIED:20231116T194820Z
UID:30365-1701648000-1702079999@asso.abite.fr
SUMMARY:Rencontre Tropical d'Architecture
DESCRIPTION:abitē
URL:https://asso.abite.fr/event/rencontre-tropical-darchitecture/
ATTACH;FMTTYPE=image/jpeg:https://asso.abite.fr/wp-content/uploads/2023/07/19250225_web_3.jpg
ORGANIZER;CN="abit%C3%A9.association":MAILTO:association@abite.fr
END:VEVENT
BEGIN:VEVENT
DTSTART;TZID=UTC:20231204T100000
DTEND;TZID=UTC:20240209T170000
DTSTAMP:20260413T195302
CREATED:20240104T203458Z
LAST-MODIFIED:20240104T210524Z
UID:30857-1701684000-1707498000@asso.abite.fr
SUMMARY:CONCOURS BAQ 2022: Lauréats et projets caribéens
DESCRIPTION:abitē
URL:https://asso.abite.fr/event/concours-baq-2022-laureats-et-projets-caribeens/
LOCATION:LEPATIO19\, 19 rue Garnier Pagès\, Fort-de-France\, 97200\, Martinique
ATTACH;FMTTYPE=image/jpeg:https://asso.abite.fr/wp-content/uploads/2024/01/Afters-04-scaled.jpg
ORGANIZER;CN="abit%C3%A9.association":MAILTO:association@abite.fr
END:VEVENT
END:VCALENDAR