BEGIN:VCALENDAR
VERSION:2.0
PRODID:-//assoabitē - ECPv6.15.16//NONSGML v1.0//EN
CALSCALE:GREGORIAN
METHOD:PUBLISH
X-ORIGINAL-URL:https://asso.abite.fr
X-WR-CALDESC:Évènements pour assoabitē
REFRESH-INTERVAL;VALUE=DURATION:PT1H
X-Robots-Tag:noindex
X-PUBLISHED-TTL:PT1H
BEGIN:VTIMEZONE
TZID:UTC
BEGIN:STANDARD
TZOFFSETFROM:+0000
TZOFFSETTO:+0000
TZNAME:UTC
DTSTART:20220101T000000
END:STANDARD
END:VTIMEZONE
BEGIN:VEVENT
DTSTART;VALUE=DATE:20231027
DTEND;VALUE=DATE:20231109
DTSTAMP:20260419T155126
CREATED:20231026T213540Z
LAST-MODIFIED:20231026T213540Z
UID:30701-1698364800-1699487999@asso.abite.fr
SUMMARY:LÀ OÙ LE TRAIT SE MEURT · SORTIE DE RÉSIDENCE · CECILE BOURGADE
DESCRIPTION:abitē
URL:https://asso.abite.fr/event/la-ou-le-trait-se-meurt-%c2%b7-sortie-de-residence-%c2%b7-cecile-bourgade/
LOCATION:LEPATIO19\, 19 rue Garnier Pagès\, Fort-de-France\, 97200\, Martinique
ATTACH;FMTTYPE=image/jpeg:https://asso.abite.fr/wp-content/uploads/2023/10/BOURGADE_RESIDENCE_297_297_RGB_carre.jpg
ORGANIZER;CN="abit%C3%A9.association":MAILTO:association@abite.fr
END:VEVENT
END:VCALENDAR